BEGIN:VCALENDAR
VERSION:2.0
PRODID:-//LFAI &amp; Data - ECPv6.15.20//NONSGML v1.0//EN
CALSCALE:GREGORIAN
METHOD:PUBLISH
X-WR-CALNAME:LFAI &amp; Data
X-ORIGINAL-URL:https://lfaidata.foundation
X-WR-CALDESC:Events for LFAI &amp; Data
REFRESH-INTERVAL;VALUE=DURATION:PT1H
X-Robots-Tag:noindex
X-PUBLISHED-TTL:PT1H
BEGIN:VTIMEZONE
TZID:America/New_York
BEGIN:DAYLIGHT
TZOFFSETFROM:-0500
TZOFFSETTO:-0400
TZNAME:EDT
DTSTART:20250309T070000
END:DAYLIGHT
BEGIN:STANDARD
TZOFFSETFROM:-0400
TZOFFSETTO:-0500
TZNAME:EST
DTSTART:20251102T060000
END:STANDARD
BEGIN:DAYLIGHT
TZOFFSETFROM:-0500
TZOFFSETTO:-0400
TZNAME:EDT
DTSTART:20260308T070000
END:DAYLIGHT
BEGIN:STANDARD
TZOFFSETFROM:-0400
TZOFFSETTO:-0500
TZNAME:EST
DTSTART:20261101T060000
END:STANDARD
BEGIN:DAYLIGHT
TZOFFSETFROM:-0500
TZOFFSETTO:-0400
TZNAME:EDT
DTSTART:20270314T070000
END:DAYLIGHT
BEGIN:STANDARD
TZOFFSETFROM:-0400
TZOFFSETTO:-0500
TZNAME:EST
DTSTART:20271107T060000
END:STANDARD
END:VTIMEZONE
BEGIN:VEVENT
DTSTART;VALUE=DATE:20260402
DTEND;VALUE=DATE:20260404
DTSTAMP:20260422T002436
CREATED:20260128T223224Z
LAST-MODIFIED:20260128T223224Z
UID:7918-1775088000-1775260799@lfaidata.foundation
SUMMARY:MCP Dev Summit North America\, Presented by Agentic AI Foundation
DESCRIPTION:Date & Time: April 2-3\, 2026\nLocation: New York Marriott Marquis\n\nMCP Dev Summit North America is the premier gathering for builders\, contributors\, and organizations advancing AI development with the Model Context Protocol (MCP). This year’s summit brings together MCP co-founders\, contributors\, and developers to explore the latest innovations\, share best practices\, and showcase the next generation of AI agents built on MCP. \nMCP has quickly become a transformative framework for developers\, providing a standardized approach and blueprint for connecting LLMs with applications and tools. The MCP Dev Summit offers an immersive experience with deep technical sessions on scaling MCP\, secure orchestration\, observability\, and enterprise integration\, designed to empower the community building the future of AI agents. \nView event page here.
URL:https://lfaidata.foundation/event/mcp-dev-summit-north-america-presented-by-agentic-ai-foundation/
LOCATION:New York Marriott Marquis\, 1535 Broadway New York\, New York\, NY\, 10036\, United States
END:VEVENT
END:VCALENDAR