BEGIN:VCALENDAR
VERSION:2.0
PRODID:-//LFAI &amp; Data - ECPv6.15.20//NONSGML v1.0//EN
CALSCALE:GREGORIAN
METHOD:PUBLISH
X-ORIGINAL-URL:https://lfaidata.foundation
X-WR-CALDESC:Events for LFAI &amp; Data
REFRESH-INTERVAL;VALUE=DURATION:PT1H
X-Robots-Tag:noindex
X-PUBLISHED-TTL:PT1H
BEGIN:VTIMEZONE
TZID:America/New_York
BEGIN:DAYLIGHT
TZOFFSETFROM:-0500
TZOFFSETTO:-0400
TZNAME:EDT
DTSTART:20230312T070000
END:DAYLIGHT
BEGIN:STANDARD
TZOFFSETFROM:-0400
TZOFFSETTO:-0500
TZNAME:EST
DTSTART:20231105T060000
END:STANDARD
BEGIN:DAYLIGHT
TZOFFSETFROM:-0500
TZOFFSETTO:-0400
TZNAME:EDT
DTSTART:20240310T070000
END:DAYLIGHT
BEGIN:STANDARD
TZOFFSETFROM:-0400
TZOFFSETTO:-0500
TZNAME:EST
DTSTART:20241103T060000
END:STANDARD
BEGIN:DAYLIGHT
TZOFFSETFROM:-0500
TZOFFSETTO:-0400
TZNAME:EDT
DTSTART:20250309T070000
END:DAYLIGHT
BEGIN:STANDARD
TZOFFSETFROM:-0400
TZOFFSETTO:-0500
TZNAME:EST
DTSTART:20251102T060000
END:STANDARD
END:VTIMEZONE
BEGIN:VTIMEZONE
TZID:Asia/Tokyo
BEGIN:STANDARD
TZOFFSETFROM:+0900
TZOFFSETTO:+0900
TZNAME:JST
DTSTART:20230101T000000
END:STANDARD
END:VTIMEZONE
BEGIN:VEVENT
DTSTART;TZID=America/New_York:20241015T120000
DTEND;TZID=America/New_York:20241015T130000
DTSTAMP:20260423T011337
CREATED:20241011T134112Z
LAST-MODIFIED:20241011T134112Z
UID:6384-1728993600-1728997200@lfaidata.foundation
SUMMARY:TAC Talks: Egeria
DESCRIPTION:Join Mandy Chessell as she explores how Egeria\, a graduate-stage project of LF AI & Data\, enables seamless data management and governance across platforms without reformatting or vendor lock-in. With open APIs\, event formats\, and integration logic\, Egeria empowers organizations to share data effortlessly. \n📅 Don’t miss out! On October 15 at 9AM PST\, dive into Egeria’s capabilities and discover how it’s revolutionizing enterprise data management. \n🎥 Live on LF AI & Data LinkedIn & YouTube channels. Hosted by Vini Jaiswal. \nRSVP on LinkedIn
URL:https://lfaidata.foundation/event/tac-talks-egeria/
LOCATION:MN
END:VEVENT
BEGIN:VEVENT
DTSTART;TZID=Asia/Tokyo:20241028T090000
DTEND;TZID=Asia/Tokyo:20241029T170000
DTSTAMP:20260423T011337
CREATED:20240701T135454Z
LAST-MODIFIED:20240701T135454Z
UID:5920-1730106000-1730221200@lfaidata.foundation
SUMMARY:AI_dev Japan
DESCRIPTION:AI_dev is a nexus for developers delving into the intricate realm of open source generative AI and machine learning. At the heart of this event is the belief that open source is the engine of innovation in AI. By uniting the brightest developers from around the world\, we aim to ignite discussions\, foster collaborations\, and shape the trajectory of open source AI. \n  \n 
URL:https://lfaidata.foundation/event/ai_dev-japan/
LOCATION:MN
END:VEVENT
END:VCALENDAR