BEGIN:VCALENDAR
VERSION:2.0
PRODID:-//LFAI &amp; Data - ECPv6.15.20//NONSGML v1.0//EN
CALSCALE:GREGORIAN
METHOD:PUBLISH
X-WR-CALNAME:LFAI &amp; Data
X-ORIGINAL-URL:https://lfaidata.foundation
X-WR-CALDESC:Events for LFAI &amp; Data
REFRESH-INTERVAL;VALUE=DURATION:PT1H
X-Robots-Tag:noindex
X-PUBLISHED-TTL:PT1H
BEGIN:VTIMEZONE
TZID:America/New_York
BEGIN:DAYLIGHT
TZOFFSETFROM:-0500
TZOFFSETTO:-0400
TZNAME:EDT
DTSTART:20230312T070000
END:DAYLIGHT
BEGIN:STANDARD
TZOFFSETFROM:-0400
TZOFFSETTO:-0500
TZNAME:EST
DTSTART:20231105T060000
END:STANDARD
BEGIN:DAYLIGHT
TZOFFSETFROM:-0500
TZOFFSETTO:-0400
TZNAME:EDT
DTSTART:20240310T070000
END:DAYLIGHT
BEGIN:STANDARD
TZOFFSETFROM:-0400
TZOFFSETTO:-0500
TZNAME:EST
DTSTART:20241103T060000
END:STANDARD
BEGIN:DAYLIGHT
TZOFFSETFROM:-0500
TZOFFSETTO:-0400
TZNAME:EDT
DTSTART:20250309T070000
END:DAYLIGHT
BEGIN:STANDARD
TZOFFSETFROM:-0400
TZOFFSETTO:-0500
TZNAME:EST
DTSTART:20251102T060000
END:STANDARD
END:VTIMEZONE
BEGIN:VEVENT
DTSTART;VALUE=DATE:20240619
DTEND;VALUE=DATE:20240621
DTSTAMP:20260423T071122
CREATED:20240212T183014Z
LAST-MODIFIED:20240212T183559Z
UID:5391-1718755200-1718927999@lfaidata.foundation
SUMMARY:AI_dev
DESCRIPTION:Calling all AI developers\, engineers + researchers: AI​.dev is now AI_dev: Open Source GenAI & ML Summit\, and it’s coming to Paris\, 19-20 June! Join us to shape the future of open source + AI innovation.\n\nAI_dev is a nexus for developers delving into the intricate realm of open source generative AI and machine learning. At the heart of this event is the belief that open source is the engine of innovation in AI. By uniting the brightest developers from around the world\, we aim to ignite discussions\, foster collaborations\, and shape the trajectory of open source AI.\n\n\n🎤 The call for proposals is open – submit to speak by 5 March! View suggested topics: https://hubs.la/Q02kC63N0 \n✨ Register by 15 April + SAVE US$300! https://hubs.la/Q02kC5lq0. Reduced rates are available for academics and hobbyists. \n🔥 Say tuned – and get hyped! Watch this space + sign up for updates on all the latest news ➡️ https://hubs.la/Q02kC5q70
URL:https://lfaidata.foundation/event/ai_dev/
LOCATION:MAISON DE LA MUTUALITÉ\, 24 Rue Saint-Victor\, 75005\, Paris\, France
END:VEVENT
BEGIN:VEVENT
DTSTART;VALUE=DATE:20240628
DTEND;VALUE=DATE:20240629
DTSTAMP:20260423T071122
CREATED:20240501T193048Z
LAST-MODIFIED:20240501T193557Z
UID:5667-1719532800-1719619199@lfaidata.foundation
SUMMARY:ONNX Community Meetup 2024
DESCRIPTION:Join us for the upcoming ONNX Community Meetup\, sponsored by AMD and the LF AI & Data Foundation\, on June 28th at the AMD campus in San Jose and online. Can’t make it in person? Don’t worry\, there will be a livestream available. \nThis event promises updates on the ONNX Community\, engaging partner and user stories\, and ample opportunities for networking within the community. \nThe main conference track will feature lightning talks\, highlighting the innovative applications of ONNX across the ecosystem. To cap off the day\, we’ll host special topic round tables to address your questions and concerns. \nWhether you’re utilizing ONNX in your services and applications\, developing software or hardware that supports ONNX\, or contributing to the ONNX project itself\, this meetup is for you! It’s a fantastic chance to connect with fellow ONNX enthusiasts\, learn from industry leaders\, and become a part of this vibrant and expanding community. We look forward to seeing you there! \nWe are looking for Presenters.  If you are interested in presenting please complete this form and we will be in touch!
URL:https://lfaidata.foundation/event/onnx-community-meetup-2024/
LOCATION:MN
END:VEVENT
END:VCALENDAR