BEGIN:VCALENDAR
VERSION:2.0
PRODID:-//LFAI &amp; Data - ECPv6.15.20//NONSGML v1.0//EN
CALSCALE:GREGORIAN
METHOD:PUBLISH
X-WR-CALNAME:LFAI &amp; Data
X-ORIGINAL-URL:https://lfaidata.foundation
X-WR-CALDESC:Events for LFAI &amp; Data
REFRESH-INTERVAL;VALUE=DURATION:PT1H
X-Robots-Tag:noindex
X-PUBLISHED-TTL:PT1H
BEGIN:VTIMEZONE
TZID:America/New_York
BEGIN:DAYLIGHT
TZOFFSETFROM:-0500
TZOFFSETTO:-0400
TZNAME:EDT
DTSTART:20230312T070000
END:DAYLIGHT
BEGIN:STANDARD
TZOFFSETFROM:-0400
TZOFFSETTO:-0500
TZNAME:EST
DTSTART:20231105T060000
END:STANDARD
BEGIN:DAYLIGHT
TZOFFSETFROM:-0500
TZOFFSETTO:-0400
TZNAME:EDT
DTSTART:20240310T070000
END:DAYLIGHT
BEGIN:STANDARD
TZOFFSETFROM:-0400
TZOFFSETTO:-0500
TZNAME:EST
DTSTART:20241103T060000
END:STANDARD
BEGIN:DAYLIGHT
TZOFFSETFROM:-0500
TZOFFSETTO:-0400
TZNAME:EDT
DTSTART:20250309T070000
END:DAYLIGHT
BEGIN:STANDARD
TZOFFSETFROM:-0400
TZOFFSETTO:-0500
TZNAME:EST
DTSTART:20251102T060000
END:STANDARD
END:VTIMEZONE
BEGIN:VTIMEZONE
TZID:Europe/Amsterdam
BEGIN:DAYLIGHT
TZOFFSETFROM:+0100
TZOFFSETTO:+0200
TZNAME:CEST
DTSTART:20230326T010000
END:DAYLIGHT
BEGIN:STANDARD
TZOFFSETFROM:+0200
TZOFFSETTO:+0100
TZNAME:CET
DTSTART:20231029T010000
END:STANDARD
BEGIN:DAYLIGHT
TZOFFSETFROM:+0100
TZOFFSETTO:+0200
TZNAME:CEST
DTSTART:20240331T010000
END:DAYLIGHT
BEGIN:STANDARD
TZOFFSETFROM:+0200
TZOFFSETTO:+0100
TZNAME:CET
DTSTART:20241027T010000
END:STANDARD
BEGIN:DAYLIGHT
TZOFFSETFROM:+0100
TZOFFSETTO:+0200
TZNAME:CEST
DTSTART:20250330T010000
END:DAYLIGHT
BEGIN:STANDARD
TZOFFSETFROM:+0200
TZOFFSETTO:+0100
TZNAME:CET
DTSTART:20251026T010000
END:STANDARD
END:VTIMEZONE
BEGIN:VEVENT
DTSTART;VALUE=DATE:20240507
DTEND;VALUE=DATE:20240509
DTSTAMP:20260423T084950
CREATED:20240221T153313Z
LAST-MODIFIED:20240221T153313Z
UID:5423-1715040000-1715212799@lfaidata.foundation
SUMMARY:Special Competitive Studies Project
DESCRIPTION:On May 7th and 8th\, SCSP will host its first-ever AI Expo for National Competitiveness – alongside the second Ash Carter Exchange on Innovation And National Security – at the Walter E. Washington Convention Center. The AI Expo is meant to serve as a forum for industry\, government\, and academic research entities to exhibit some of the latest technological breakthroughs — in AI\, biotech\, energy\, networks\, compute\, microelectronics\, manufacturing\, augmented reality\, and beyond — and discuss their implications for U.S. and allied competitiveness. \nThe Expo is free and open to the public to attend – register here to secure your spot!
URL:https://lfaidata.foundation/event/special-competitive-studies-project/
LOCATION:Washington\, D.C.
END:VEVENT
BEGIN:VEVENT
DTSTART;VALUE=DATE:20240514
DTEND;VALUE=DATE:20240516
DTSTAMP:20260423T084950
CREATED:20240501T141214Z
LAST-MODIFIED:20240501T141214Z
UID:5663-1715644800-1715817599@lfaidata.foundation
SUMMARY:OPEA Community Days
DESCRIPTION:Join us for the inaugural OPEA event!\nOpen Platform for Enterprise AI (OPEA) is a new sandbox project within the LF AI & Data Foundation. \nOPEA’s mission is to offer validated enterprise-grade GenAI reference implementations\, simplifying development and deployment thereby accelerating time-to-market and a realization of business value. \nThis event is intended to iterate and expand upon the technical framework\, review the initial contributions\, as well as initiate new working groups that will build out the efficacy of the OPEA framework.
URL:https://lfaidata.foundation/event/opea-community-days/
LOCATION:Intel Jones Farm Conference Center\, 2111 NE 25th Ave\, Hillsboro\, Oregon\, 97124
END:VEVENT
BEGIN:VEVENT
DTSTART;TZID=Europe/Amsterdam:20240520T080000
DTEND;TZID=Europe/Amsterdam:20240525T170000
DTSTAMP:20260423T084950
CREATED:20240515T205746Z
LAST-MODIFIED:20240515T205746Z
UID:5719-1716192000-1716656400@lfaidata.foundation
SUMMARY:LREC-COLING 2024
DESCRIPTION:Two major international key players in the area of computational linguistics\, the ELRA Language Resources Association (ELRA) and the International Committee on Computational Linguistics (ICCL)\, are joining forces to organize the 2024 Joint International Conference on Computational Linguistics\, Language Resources and Evaluation (LREC-COLING 2024) to be held in Torino (Italy) on 20-25 May\, 2024.\nThe three-day main conference (22-23-24\, May) will be accompanied by a total of three days of workshops and tutorials (20-21-25\, May) held in the days immediately before and after.
URL:https://lfaidata.foundation/event/lrec-coling-2024/
LOCATION:MN
END:VEVENT
END:VCALENDAR