BEGIN:VCALENDAR
VERSION:2.0
PRODID:-//LFAI &amp; Data - ECPv6.15.20//NONSGML v1.0//EN
CALSCALE:GREGORIAN
METHOD:PUBLISH
X-ORIGINAL-URL:https://lfaidata.foundation
X-WR-CALDESC:Events for LFAI &amp; Data
REFRESH-INTERVAL;VALUE=DURATION:PT1H
X-Robots-Tag:noindex
X-PUBLISHED-TTL:PT1H
BEGIN:VTIMEZONE
TZID:America/New_York
BEGIN:DAYLIGHT
TZOFFSETFROM:-0500
TZOFFSETTO:-0400
TZNAME:EDT
DTSTART:20240310T070000
END:DAYLIGHT
BEGIN:STANDARD
TZOFFSETFROM:-0400
TZOFFSETTO:-0500
TZNAME:EST
DTSTART:20241103T060000
END:STANDARD
BEGIN:DAYLIGHT
TZOFFSETFROM:-0500
TZOFFSETTO:-0400
TZNAME:EDT
DTSTART:20250309T070000
END:DAYLIGHT
BEGIN:STANDARD
TZOFFSETFROM:-0400
TZOFFSETTO:-0500
TZNAME:EST
DTSTART:20251102T060000
END:STANDARD
BEGIN:DAYLIGHT
TZOFFSETFROM:-0500
TZOFFSETTO:-0400
TZNAME:EDT
DTSTART:20260308T070000
END:DAYLIGHT
BEGIN:STANDARD
TZOFFSETFROM:-0400
TZOFFSETTO:-0500
TZNAME:EST
DTSTART:20261101T060000
END:STANDARD
END:VTIMEZONE
BEGIN:VEVENT
DTSTART;TZID=America/New_York:20250116T120000
DTEND;TZID=America/New_York:20250116T140000
DTSTAMP:20260422T222237
CREATED:20250103T160847Z
LAST-MODIFIED:20250103T160847Z
UID:6817-1737028800-1737036000@lfaidata.foundation
SUMMARY:Build Interoperable Conversational Assistants with Open Voice Specifications and Software
DESCRIPTION:There are millions of chatbots and voice bots (conversational assistants) in the world\, hosted on mobile phones\, smart speakers and websites. They are hosted by many kinds of organizations – including governments\, businesses\, and non-profits. Today\, each conversational assistant is independent of the others\, even within an organization\, and each one has its own expertise. What if they could collaborate\, working together and sharing information? This would reduce implementation complexity\, duplication of effort\, and friction for users. \nThe Open Voice Network Interoperability Initiative of the LFAI and Data Foundation is working on enabling just these capabilities. Its goal is to make it possible for different voice and conversational AI systems\, based on LLM’s or other NLP technologies\, to work together through the use of a standard open-source set of easy-to-use messages.The messages enable any conversational assistant that follows the standards to freely interoperate with other standards-using assistants to connect\, communicate\, and transfer content and control across assistants\, platforms\, and language models. Please join us for a workshop that will show developers how to use our specifications to create ecosystems of collaborating assistants\, including both new assistants as well as legacy assistants. \nThis workshop will describe the messaging protocol and then introduce the Open Voice Interoperability Initiative implementations of the protocol. We start by reviewing the open source Interoperability Sandbox implementation. The Sandbox includes a web interface client as well as an assortment of interoperable assistants available for experimentation. We will also introduce BeaconForge\, an open source assistant server\, that can be modified to build interoperable assistants based on LLM models. Attendees will get a chance to build their own assistant during the workshop.
URL:https://lfaidata.foundation/event/build-interoperable-conversational-assistants-with-open-voice-specifications-and-software/
LOCATION:MN
ATTACH;FMTTYPE=image/png:https://lfaidata.foundation/wp-content/uploads/sites/3/2025/01/OVN-Workshop.png
END:VEVENT
END:VCALENDAR