BEGIN:VCALENDAR
VERSION:2.0
PRODID:-//LFAI &amp; Data - ECPv6.15.20//NONSGML v1.0//EN
CALSCALE:GREGORIAN
METHOD:PUBLISH
X-ORIGINAL-URL:https://lfaidata.foundation
X-WR-CALDESC:Events for LFAI &amp; Data
REFRESH-INTERVAL;VALUE=DURATION:PT1H
X-Robots-Tag:noindex
X-PUBLISHED-TTL:PT1H
BEGIN:VTIMEZONE
TZID:America/New_York
BEGIN:DAYLIGHT
TZOFFSETFROM:-0500
TZOFFSETTO:-0400
TZNAME:EDT
DTSTART:20230312T070000
END:DAYLIGHT
BEGIN:STANDARD
TZOFFSETFROM:-0400
TZOFFSETTO:-0500
TZNAME:EST
DTSTART:20231105T060000
END:STANDARD
BEGIN:DAYLIGHT
TZOFFSETFROM:-0500
TZOFFSETTO:-0400
TZNAME:EDT
DTSTART:20240310T070000
END:DAYLIGHT
BEGIN:STANDARD
TZOFFSETFROM:-0400
TZOFFSETTO:-0500
TZNAME:EST
DTSTART:20241103T060000
END:STANDARD
BEGIN:DAYLIGHT
TZOFFSETFROM:-0500
TZOFFSETTO:-0400
TZNAME:EDT
DTSTART:20250309T070000
END:DAYLIGHT
BEGIN:STANDARD
TZOFFSETFROM:-0400
TZOFFSETTO:-0500
TZNAME:EST
DTSTART:20251102T060000
END:STANDARD
END:VTIMEZONE
BEGIN:VEVENT
DTSTART;TZID=America/New_York:20241126T120000
DTEND;TZID=America/New_York:20241126T130000
DTSTAMP:20260422T235100
CREATED:20241101T125249Z
LAST-MODIFIED:20241101T125249Z
UID:6506-1732622400-1732626000@lfaidata.foundation
SUMMARY:Ask the Authors - Delta Lake: The Definitive Guide
DESCRIPTION:Join us for the first session of our new series\, Ask the Authors! This interactive series offers a unique opportunity to meet the minds behind Delta Lake: The Definitive Guide and get your questions answered live. \n🗓 Tuesday\, November 26 at 9AM PT\n🎤 Denny Lee\, Prashanth Babu\, R. Tyler Croy\, Tristen Wentling\, & Scott Haines\n💻 LIVE on LinkedIn & YouTube \nIf you’re looking to enhance the performance of your data lake\, tackle complex data challenges\, or simply learn more about Delta Lake’s capabilities\, this event is for you. Learn how Delta Lake provides an optimized storage layer that enhances streaming and batch data operations’ reliability\, security\, and performance. \nPLUS\, we’re giving away 5 copies of Delta Lake: The Definitive Guide!
URL:https://lfaidata.foundation/event/ask-the-authors-delta-lake-the-definitive-guide/
LOCATION:MN
END:VEVENT
END:VCALENDAR