BEGIN:VCALENDAR
VERSION:2.0
PRODID:-//LFAI &amp; Data - ECPv6.15.20//NONSGML v1.0//EN
CALSCALE:GREGORIAN
METHOD:PUBLISH
X-WR-CALNAME:LFAI &amp; Data
X-ORIGINAL-URL:https://lfaidata.foundation
X-WR-CALDESC:Events for LFAI &amp; Data
REFRESH-INTERVAL;VALUE=DURATION:PT1H
X-Robots-Tag:noindex
X-PUBLISHED-TTL:PT1H
BEGIN:VTIMEZONE
TZID:America/New_York
BEGIN:DAYLIGHT
TZOFFSETFROM:-0500
TZOFFSETTO:-0400
TZNAME:EDT
DTSTART:20230312T070000
END:DAYLIGHT
BEGIN:STANDARD
TZOFFSETFROM:-0400
TZOFFSETTO:-0500
TZNAME:EST
DTSTART:20231105T060000
END:STANDARD
BEGIN:DAYLIGHT
TZOFFSETFROM:-0500
TZOFFSETTO:-0400
TZNAME:EDT
DTSTART:20240310T070000
END:DAYLIGHT
BEGIN:STANDARD
TZOFFSETFROM:-0400
TZOFFSETTO:-0500
TZNAME:EST
DTSTART:20241103T060000
END:STANDARD
BEGIN:DAYLIGHT
TZOFFSETFROM:-0500
TZOFFSETTO:-0400
TZNAME:EDT
DTSTART:20250309T070000
END:DAYLIGHT
BEGIN:STANDARD
TZOFFSETFROM:-0400
TZOFFSETTO:-0500
TZNAME:EST
DTSTART:20251102T060000
END:STANDARD
END:VTIMEZONE
BEGIN:VEVENT
DTSTART;TZID=America/New_York:20241107T113000
DTEND;TZID=America/New_York:20241107T123000
DTSTAMP:20260423T011300
CREATED:20241031T201416Z
LAST-MODIFIED:20241031T201416Z
UID:6499-1730979000-1730982600@lfaidata.foundation
SUMMARY:Zero to Hero: OAuth Providers with OSS UC
DESCRIPTION:Curious about connecting OAuth providers to Unity Catalog? 🤔 \nJoin us for our next Zero to Hero episode on November 7 at 8:30 AM PT with Victoria Bukta & Joseph Mocker! We’ll explore the ins and outs of OAuth. 🚀 From basic concepts to setup\, we’ll guide you through everything you need to know. \nYou don’t want to miss this session if you’re new to OAuth or looking to integrate it into your systems. Register now!
URL:https://lfaidata.foundation/event/zero-to-hero-oauth-providers-with-oss-uc/
LOCATION:MN
END:VEVENT
END:VCALENDAR