BEGIN:VCALENDAR
VERSION:2.0
PRODID:-//LFAI &amp; Data - ECPv6.15.20//NONSGML v1.0//EN
CALSCALE:GREGORIAN
METHOD:PUBLISH
X-ORIGINAL-URL:https://lfaidata.foundation
X-WR-CALDESC:Events for LFAI &amp; Data
REFRESH-INTERVAL;VALUE=DURATION:PT1H
X-Robots-Tag:noindex
X-PUBLISHED-TTL:PT1H
BEGIN:VTIMEZONE
TZID:America/New_York
BEGIN:DAYLIGHT
TZOFFSETFROM:-0500
TZOFFSETTO:-0400
TZNAME:EDT
DTSTART:20230312T070000
END:DAYLIGHT
BEGIN:STANDARD
TZOFFSETFROM:-0400
TZOFFSETTO:-0500
TZNAME:EST
DTSTART:20231105T060000
END:STANDARD
BEGIN:DAYLIGHT
TZOFFSETFROM:-0500
TZOFFSETTO:-0400
TZNAME:EDT
DTSTART:20240310T070000
END:DAYLIGHT
BEGIN:STANDARD
TZOFFSETFROM:-0400
TZOFFSETTO:-0500
TZNAME:EST
DTSTART:20241103T060000
END:STANDARD
BEGIN:DAYLIGHT
TZOFFSETFROM:-0500
TZOFFSETTO:-0400
TZNAME:EDT
DTSTART:20250309T070000
END:DAYLIGHT
BEGIN:STANDARD
TZOFFSETFROM:-0400
TZOFFSETTO:-0500
TZNAME:EST
DTSTART:20251102T060000
END:STANDARD
END:VTIMEZONE
BEGIN:VEVENT
DTSTART;TZID=America/New_York:20241105T120000
DTEND;TZID=America/New_York:20241105T124500
DTSTAMP:20260423T011326
CREATED:20241031T200523Z
LAST-MODIFIED:20241031T201119Z
UID:6496-1730808000-1730810700@lfaidata.foundation
SUMMARY:TAC Talks: Milvus
DESCRIPTION:Join us Tuesday\, November 5\, for the next episode of TAC Talks featuring Milvus\, an LF AI & Data graduate-stage project! \nMilvus is engineered to enhance embedding similarity searches and streamline AI applications. Its capability to make unstructured data searches more accessible offers a seamless user experience\, whether deployed on-prem or in the cloud. \nTim Spann\, Principal Developer Advocate at Zilliz\, will walk us through the Milvus architecture. We’ll dive deep into the code\, explore the user interface\, and learn how Milvus can be integrated into your technology stack. \n🗓 Tuesday\, November 5\n🕗 9 AM PT / 12PM ET\n🗣 Hosted by Vini Jaiswal\, Chair of LF AI & Data TAC
URL:https://lfaidata.foundation/event/tac-talks-milvus/
LOCATION:MN
END:VEVENT
END:VCALENDAR