BEGIN:VCALENDAR
VERSION:2.0
PRODID:-//LFAI &amp; Data - ECPv6.15.20//NONSGML v1.0//EN
CALSCALE:GREGORIAN
METHOD:PUBLISH
X-WR-CALNAME:LFAI &amp; Data
X-ORIGINAL-URL:https://lfaidata.foundation
X-WR-CALDESC:Events for LFAI &amp; Data
REFRESH-INTERVAL;VALUE=DURATION:PT1H
X-Robots-Tag:noindex
X-PUBLISHED-TTL:PT1H
BEGIN:VTIMEZONE
TZID:Asia/Hong_Kong
BEGIN:STANDARD
TZOFFSETFROM:+0800
TZOFFSETTO:+0800
TZNAME:HKT
DTSTART:20230101T000000
END:STANDARD
END:VTIMEZONE
BEGIN:VEVENT
DTSTART;TZID=Asia/Hong_Kong:20240821T080000
DTEND;TZID=Asia/Hong_Kong:20240823T170000
DTSTAMP:20260423T054111
CREATED:20240701T175109Z
LAST-MODIFIED:20240701T175109Z
UID:5929-1724227200-1724432400@lfaidata.foundation
SUMMARY:KubeCon + CloudNativeCon + Open Source Summit + AI_dev China
DESCRIPTION:The Cloud Native Computing Foundation’s flagship conference joins with Open Source Summit and AI_dev to gather adopters and technologists from leading open source and cloud native communities in Hong Kong\, China from 21-23 August\, 2024. Join us and immerse yourself in the heart of cloud native computing\, open source innovation\, and the intricate realm of generative AI and machine learning.
URL:https://lfaidata.foundation/event/kubecon-cloudnativecon-open-source-summit-ai_dev-china/
LOCATION:MN
END:VEVENT
END:VCALENDAR