BEGIN:VCALENDAR
VERSION:2.0
PRODID:-//LFAI &amp; Data - ECPv6.15.20//NONSGML v1.0//EN
CALSCALE:GREGORIAN
METHOD:PUBLISH
X-ORIGINAL-URL:https://lfaidata.foundation
X-WR-CALDESC:Events for LFAI &amp; Data
REFRESH-INTERVAL;VALUE=DURATION:PT1H
X-Robots-Tag:noindex
X-PUBLISHED-TTL:PT1H
BEGIN:VTIMEZONE
TZID:America/New_York
BEGIN:DAYLIGHT
TZOFFSETFROM:-0500
TZOFFSETTO:-0400
TZNAME:EDT
DTSTART:20230312T070000
END:DAYLIGHT
BEGIN:STANDARD
TZOFFSETFROM:-0400
TZOFFSETTO:-0500
TZNAME:EST
DTSTART:20231105T060000
END:STANDARD
BEGIN:DAYLIGHT
TZOFFSETFROM:-0500
TZOFFSETTO:-0400
TZNAME:EDT
DTSTART:20240310T070000
END:DAYLIGHT
BEGIN:STANDARD
TZOFFSETFROM:-0400
TZOFFSETTO:-0500
TZNAME:EST
DTSTART:20241103T060000
END:STANDARD
BEGIN:DAYLIGHT
TZOFFSETFROM:-0500
TZOFFSETTO:-0400
TZNAME:EDT
DTSTART:20250309T070000
END:DAYLIGHT
BEGIN:STANDARD
TZOFFSETFROM:-0400
TZOFFSETTO:-0500
TZNAME:EST
DTSTART:20251102T060000
END:STANDARD
END:VTIMEZONE
BEGIN:VEVENT
DTSTART;TZID=America/New_York:20240425T140000
DTEND;TZID=America/New_York:20240425T150000
DTSTAMP:20260423T120052
CREATED:20240403T174840Z
LAST-MODIFIED:20240403T174840Z
UID:5575-1714053600-1714057200@lfaidata.foundation
SUMMARY:The Importance of Openness in Generative AI
DESCRIPTION:Save the date for an engaging webinar hosted by the Generative AI Commons Committee: “The Importance of Openness in GenAI” Webinar\, scheduled for April 25th. \nJoin us as we delve into crucial topics such as the significance of openness in shaping new technologies\, drawing from extensive experience spanning back to the early days of the internet. Discover how openness fosters transparency and accountability in AI systems while exploring the potential risks associated with closed or proprietary approaches in contrast to open methodologies. \nAdditionally\, get an exclusive sneak peek at the AI & Data Model Openness Framework\, offering valuable insights into navigating the landscape of open AI models and data. \nDon’t miss out on this insightful discussion! Register now to secure your spot.
URL:https://lfaidata.foundation/event/the-importance-of-openness-in-generative-ai/
LOCATION:MN
END:VEVENT
END:VCALENDAR